BEGIN:VCALENDAR
VERSION:2.0
PRODID:spatie/icalendar-generator
NAME:OSONA RC
X-WR-CALNAME:OSONA RC
DESCRIPTION:Events for OSONA RC
X-WR-CALDESC:Events for OSONA RC
BEGIN:VEVENT
UID:2149-1769241600-1769277600@www.osonarc.com
SUMMARY:3er Dakar RC
DESCRIPTION:3er Dakar RC
LOCATION:Vilajuïga\, Girona 17493
URL:https://www.osonarc.com/event/3er-dakar-rc/
DTSTART;TZID=Europe/Madrid:20260124T090000
DTEND;TZID=Europe/Madrid:20260124T190000
DTSTAMP;TZID=UTC:20260425T143556
END:VEVENT
END:VCALENDAR