BEGIN:VCALENDAR
VERSION:2.0
PRODID:spatie/icalendar-generator
NAME:OSONA RC
X-WR-CALNAME:OSONA RC
DESCRIPTION:Events for OSONA RC
X-WR-CALDESC:Events for OSONA RC
BEGIN:VEVENT
UID:2156-1765699200-1765717200@www.osonarc.com
SUMMARY:4a PROVA del 1er Campionat d´Osona de Rallis
DESCRIPTION:4a PROVA del 1er Campionat d´Osona de Rallis
LOCATION:Cabrerès\, 2 Pol. Ind. Malloles\, Vic\, Barcelona 08500
URL:https://www.osonarc.com/event/4a-prova-del-1er-campionat-dosona-de-rall
 is/
DTSTART;TZID=+01:00:20251214T090000
DTEND;TZID=+01:00:20251214T140000
DTSTAMP;TZID=UTC:20260425T175800
END:VEVENT
END:VCALENDAR