BEGIN:VCALENDAR
VERSION:2.0
PRODID:spatie/icalendar-generator
NAME:OSONA RC
X-WR-CALNAME:OSONA RC
DESCRIPTION:Events for OSONA RC
X-WR-CALDESC:Events for OSONA RC
BEGIN:VEVENT
UID:2192-1773561600-1773583200@www.osonarc.com
SUMMARY:1a prova del 2on Campionat d’Osona de Rallis
DESCRIPTION:
LOCATION:Cabrerès\, 2 Pol. Ind. Malloles\, Vic\, Barcelona 08500
URL:https://www.osonarc.com/event/evento/
DTSTART;TZID=+01:00:20260315T090000
DTEND;TZID=+01:00:20260315T150000
DTSTAMP;TZID=UTC:20260425T144417
END:VEVENT
END:VCALENDAR